BEGIN:VCALENDAR
VERSION:2.0
PRODID:-//Department Of Education//421d3fe0-d72d-48bc-b4f8-efa60c6f8260
BEGIN:VTIMEZONE
TZID:Australia/Sydney
TZURL:http://tzurl.org/zoneinfo-outlook/Australia/Sydney
X-LIC-LOCATION:Australia/Sydney
BEGIN:STANDARD
TZOFFSETFROM:+1100
TZOFFSETTO:+1000
TZNAME:AEST
DTSTART:19700405T030000
RRULE:FREQ=YEARLY;BYMONTH=4;BYDAY=1SU
END:STANDARD
BEGIN:DAYLIGHT
TZOFFSETFROM:+1000
TZOFFSETTO:+1100
TZNAME:AEDT
DTSTART:19701004T020000
RRULE:FREQ=YEARLY;BYMONTH=10;BYDAY=1SU
END:DAYLIGHT
END:VTIMEZONE
CALSCALE:GREGORIAN
X-WR-TIMEZONE:Australia/Sydney
BEGIN:VEVENT
DTSTART;TZID=Australia/Sydney:20200409T120019
DTEND;TZID=Australia/Sydney:20200409T130022
DTSTAMP:20200409T000000Z
UID:be05260a-4842-4d7b-89db-80e352da256c
LOCATION:Orange Public School - Infants site
SUMMARY;LANGUAGE=en-us:K-2 Easter Hat Parade
SEQUENCE:0
DESCRIPTION:The Infants students will be participating in the OPS Easter Hat Parade. Hats are to be made at home.
END:VEVENT
TRANSP:TRANSPARENT
END:VCALENDAR
